BEGIN:VCALENDAR
VERSION:2.0
PRODID:-//Ayuntamiento El Molar - ECPv5.14.0.2//NONSGML v1.0//EN
CALSCALE:GREGORIAN
METHOD:PUBLISH
X-WR-CALNAME:Ayuntamiento El Molar
X-ORIGINAL-URL:https://elmolar.org
X-WR-CALDESC:Eventos para Ayuntamiento El Molar
BEGIN:VTIMEZONE
TZID:Europe/Madrid
BEGIN:DAYLIGHT
TZOFFSETFROM:+0100
TZOFFSETTO:+0200
TZNAME:CEST
DTSTART:20170326T010000
END:DAYLIGHT
BEGIN:STANDARD
TZOFFSETFROM:+0200
TZOFFSETTO:+0100
TZNAME:CET
DTSTART:20171029T010000
END:STANDARD
END:VTIMEZONE
BEGIN:VEVENT
DTSTART;TZID=Europe/Madrid:20170401T150000
DTEND;TZID=Europe/Madrid:20170401T163000
DTSTAMP:20260423T171103
CREATED:20170330T073807Z
LAST-MODIFIED:20170330T073807Z
UID:16522-1491058800-1491064200@elmolar.org
SUMMARY:60 ANIVERSARIO DE LA BENDICIÓN DE LA ERMITA NTRA. SRA. DEL REMOLINO
DESCRIPTION:Celebración de la eucaristía del 60 aniversario de la bendición de la actual Ermita de Ntra. Sra. del Remolino. La Celebración será presidida por el Sr. Arcipreste de El Molar.
URL:https://elmolar.org/evento/60-aniversario-de-la-bendicion-de-la-ermita-ntra-sra-del-remolino-2/
CATEGORIES:Otros
END:VEVENT
END:VCALENDAR