BEGIN:VCALENDAR
VERSION:2.0
PRODID:-//Ayuntamiento El Molar - ECPv5.14.0.2//NONSGML v1.0//EN
CALSCALE:GREGORIAN
METHOD:PUBLISH
X-WR-CALNAME:Ayuntamiento El Molar
X-ORIGINAL-URL:https://elmolar.org
X-WR-CALDESC:Eventos para Ayuntamiento El Molar
BEGIN:VTIMEZONE
TZID:Europe/Madrid
BEGIN:DAYLIGHT
TZOFFSETFROM:+0100
TZOFFSETTO:+0200
TZNAME:CEST
DTSTART:20150329T010000
END:DAYLIGHT
BEGIN:STANDARD
TZOFFSETFROM:+0200
TZOFFSETTO:+0100
TZNAME:CET
DTSTART:20151025T010000
END:STANDARD
END:VTIMEZONE
BEGIN:VEVENT
DTSTART;TZID=Europe/Madrid:20150504T100000
DTEND;TZID=Europe/Madrid:20150513T190000
DTSTAMP:20260423T051713
CREATED:20150326T113259Z
LAST-MODIFIED:20150326T113259Z
UID:16104-1430733600-1431543600@elmolar.org
SUMMARY:Semana Cultural
DESCRIPTION:Música\, Danza\, Teatro\, Deporte y Exhibiciones.
URL:https://elmolar.org/evento/semana-cultural-2/
END:VEVENT
BEGIN:VEVENT
DTSTART;TZID=Europe/Madrid:20150508T190000
DTEND;TZID=Europe/Madrid:20150508T220000
DTSTAMP:20260423T051713
CREATED:20150326T113421Z
LAST-MODIFIED:20150326T113421Z
UID:16105-1431111600-1431122400@elmolar.org
SUMMARY:Master Chef Infantil
DESCRIPTION:En la Cocina del CEIP “Arco de la Sierra”\, el Plan de Igualdad de la Mancomunidad “Vega del Guadalix” nos propone unos talleres de cocina para los más pequeños. \nInscripción previa obligatoria.
URL:https://elmolar.org/evento/master-chef-infantil-3/
CATEGORIES:Otros
ATTACH;FMTTYPE=:
END:VEVENT
BEGIN:VEVENT
DTSTART;TZID=Europe/Madrid:20150508T210000
DTEND;TZID=Europe/Madrid:20150508T210000
DTSTAMP:20260423T051713
CREATED:20150506T091328Z
LAST-MODIFIED:20150506T091328Z
UID:16148-1431118800-1431118800@elmolar.org
SUMMARY:Torneo de Fiestas Patronales de Pelota a mano.
DESCRIPTION:El próximo viernes 08 de Mayo tendrá lugar a partir de las 19:00h el Torneo de Fiestas Patronales de Pelota a mano en el Frontón Cubierto Municipal.
URL:https://elmolar.org/evento/torneo-de-fiestas-patronales-de-pelota-a-mano-2/
CATEGORIES:Deportes
ATTACH;FMTTYPE=:
END:VEVENT
BEGIN:VEVENT
DTSTART;TZID=Europe/Madrid:20150508T230000
DTEND;TZID=Europe/Madrid:20150509T000000
DTSTAMP:20260423T051713
CREATED:20150506T092804Z
LAST-MODIFIED:20150506T092804Z
UID:16149-1431126000-1431129600@elmolar.org
SUMMARY:Presentación de carteles de la Feria Taurina
DESCRIPTION:El próximo 08 de Mayo a las 22:00h tendrá lugar en el salón de plenos del Ayuntamiento\, la presentación de carteles de la Feria Taurina.
URL:https://elmolar.org/evento/presentacion-de-carteles-de-la-feria-taurina-2/
CATEGORIES:Otros
ATTACH;FMTTYPE=:
END:VEVENT
END:VCALENDAR