BEGIN:VCALENDAR
VERSION:2.0
PRODID:-//Ayuntamiento El Molar - ECPv5.14.0.2//NONSGML v1.0//EN
CALSCALE:GREGORIAN
METHOD:PUBLISH
X-WR-CALNAME:Ayuntamiento El Molar
X-ORIGINAL-URL:https://elmolar.org
X-WR-CALDESC:Eventos para Ayuntamiento El Molar
BEGIN:VTIMEZONE
TZID:Europe/Madrid
BEGIN:DAYLIGHT
TZOFFSETFROM:+0100
TZOFFSETTO:+0200
TZNAME:CEST
DTSTART:20150329T010000
END:DAYLIGHT
BEGIN:STANDARD
TZOFFSETFROM:+0200
TZOFFSETTO:+0100
TZNAME:CET
DTSTART:20151025T010000
END:STANDARD
END:VTIMEZONE
BEGIN:VEVENT
DTSTART;TZID=Europe/Madrid:20150513T120000
DTEND;TZID=Europe/Madrid:20150519T003000
DTSTAMP:20260422T181249
CREATED:20150326T114347Z
LAST-MODIFIED:20150326T114347Z
UID:16110-1431518400-1431995400@elmolar.org
SUMMARY:Fiestas Patronales Ntra. Sra. del Remolino
DESCRIPTION:El próximo 13 de Mayo dará comienzo las Fiestas Patronales de Ntra. Sra. del Remolino\, donde se podrá disfrutar hasta el día 18 de Mayo de una gran variedad de actividades tales como:  Fuegos artificiales\, pregón\, misa\, procesión\, torneos deportivos\, actuación de grupos folclóricos\, talleres infantiles\, comida popular\, concursos\, degustación de dulces tradicionales\, encierros\, recinto ferial\, conciertos\, baile en la plaza\, caldereta.
URL:https://elmolar.org/evento/fiestas-patronales-ntra-sra-del-remolino-2/
ATTACH;FMTTYPE=:
END:VEVENT
BEGIN:VEVENT
DTSTART;TZID=Europe/Madrid:20150513T123000
DTEND;TZID=Europe/Madrid:20150514T013000
DTSTAMP:20260422T181249
CREATED:20150508T054949Z
LAST-MODIFIED:20150508T054949Z
UID:16160-1431520200-1431567000@elmolar.org
SUMMARY:Último día de La Novena
DESCRIPTION:El sábado 13 de Mayo en la Iglesia de Ntra. Señora de la Asunción tendrá lugar el Último día de La Novena a las 22:30h.
URL:https://elmolar.org/evento/ultimo-dia-de-la-novena-2/
ATTACH;FMTTYPE=:
END:VEVENT
BEGIN:VEVENT
DTSTART;TZID=Europe/Madrid:20150514T015000
DTEND;TZID=Europe/Madrid:20150514T015000
DTSTAMP:20260422T181249
CREATED:20150507T095732Z
LAST-MODIFIED:20150507T095732Z
UID:16159-1431568200-1431568200@elmolar.org
SUMMARY:Fuegos Artificiales
DESCRIPTION:Uno de los espectáculos que podemos disfrutar durante la primera noche de las Fiestas Patronales son los Fuegos Artificiales\, los cuales comenzarán a las 23:50h en el Recinto Ferial\, junto a la Plaza de Toros.
URL:https://elmolar.org/evento/fuegos-artificiales-2/
CATEGORIES:Otros
ATTACH;FMTTYPE=:
END:VEVENT
BEGIN:VEVENT
DTSTART;TZID=Europe/Madrid:20150514T024500
DTEND;TZID=Europe/Madrid:20150514T060000
DTSTAMP:20260422T181249
CREATED:20150508T062233Z
LAST-MODIFIED:20150508T062233Z
UID:16162-1431571500-1431583200@elmolar.org
SUMMARY:Baile y Disco-Movil
DESCRIPTION:Desde las 00:45h podremos disfrutar en La Plaza Mayor del baile con orquesta\, así como en los descansos\, y  hasta dos horas después de finalizar la orquesta\, para los que deseen continuar la fiesta hasta altas horas de la madrugada\, podrán hacerlo sin desplazarse del lugar ya que dispondrán también de una Disco-Movil.
URL:https://elmolar.org/evento/baile-y-disco-movil-5/
CATEGORIES:Otros
ATTACH;FMTTYPE=:
END:VEVENT
BEGIN:VEVENT
DTSTART;TZID=Europe/Madrid:20150514T120000
DTEND;TZID=Europe/Madrid:20150514T130000
DTSTAMP:20260422T181249
CREATED:20150508T063804Z
LAST-MODIFIED:20150508T063804Z
UID:16163-1431604800-1431608400@elmolar.org
SUMMARY:Misa Primera
DESCRIPTION:Comenzando el segundo día de las Fiestas tendrá lugar en la Iglesia de Ntra. Señora de la Asunción la Misa primera a las 10:00h.
URL:https://elmolar.org/evento/misa-primera-3/
CATEGORIES:Otros
ATTACH;FMTTYPE=:
END:VEVENT
BEGIN:VEVENT
DTSTART;TZID=Europe/Madrid:20150514T150000
DTEND;TZID=Europe/Madrid:20150514T160000
DTSTAMP:20260422T181249
CREATED:20150508T065100Z
LAST-MODIFIED:20150508T065100Z
UID:16164-1431615600-1431619200@elmolar.org
SUMMARY:Misa Mayor
DESCRIPTION:A las 13:00h del jueves 14 de Mayo\, tendrá luegar en la Iglesia de Ntra. Señora de la Asunción la Misa Mayor. En ella participará la Coral de Aires de la Sierra de El Molar. \nhttp://www.airesdelasierra.org/
URL:https://elmolar.org/evento/misa-mayor-3/
CATEGORIES:Otros
ATTACH;FMTTYPE=:
END:VEVENT
BEGIN:VEVENT
DTSTART;TZID=Europe/Madrid:20150514T193000
DTEND;TZID=Europe/Madrid:20150514T203000
DTSTAMP:20260422T181249
CREATED:20150508T065809Z
LAST-MODIFIED:20150508T065809Z
UID:16165-1431631800-1431635400@elmolar.org
SUMMARY:Visita de los Balcones y Portales
DESCRIPTION:Para poder observar y disfrutar de los balcones y portales que participan en el Concurso de Decoración de Balcones y Portales Virgen del Remolino\, comenzará a las 17:30h una visita por ellos\, realizando el mismo recorrido de la Procesión.
URL:https://elmolar.org/evento/visita-de-los-balcones-y-portales-2/
CATEGORIES:Otros
ATTACH;FMTTYPE=:
END:VEVENT
BEGIN:VEVENT
DTSTART;TZID=Europe/Madrid:20150514T210000
DTEND;TZID=Europe/Madrid:20150514T230000
DTSTAMP:20260422T181249
CREATED:20150508T070710Z
LAST-MODIFIED:20150508T070710Z
UID:16166-1431637200-1431644400@elmolar.org
SUMMARY:Procesión con la Imagen de Ntra. Sra. Del Remolino
DESCRIPTION:Siguiendo el recorrido habitual\, a las 19:00h del 14 de Mayo\, dará comienzo la procesión con la Imagen de Ntra. Sra. del Remolino. Irá acompañada por la banda de Guerra de la BRIAC GUADARRAMA XII de “El Goloso” con escuadrón de Honores y Coronela del regimiento “ASTURIAS”31 (nueva organización de la Procesión). \nSe invita a todos los vecinos a decorar las calles por las que pasa la Procesión\, y a todas las Damas a vestir la tradicional mantilla española. \nSe ruega a las Damas que vayan a asistir con mantilla española a la Procesión\, que se presenten 20 minutos antes para organizar la comitiva.
URL:https://elmolar.org/evento/procesion-con-la-imagen-de-ntra-sra-del-remolino-2/
ATTACH;FMTTYPE=:
END:VEVENT
END:VCALENDAR