BEGIN:VCALENDAR
VERSION:2.0
PRODID:-//Ayuntamiento El Molar - ECPv5.14.0.2//NONSGML v1.0//EN
CALSCALE:GREGORIAN
METHOD:PUBLISH
X-WR-CALNAME:Ayuntamiento El Molar
X-ORIGINAL-URL:https://elmolar.org
X-WR-CALDESC:Eventos para Ayuntamiento El Molar
BEGIN:VTIMEZONE
TZID:Europe/Madrid
BEGIN:DAYLIGHT
TZOFFSETFROM:+0100
TZOFFSETTO:+0200
TZNAME:CEST
DTSTART:20150329T010000
END:DAYLIGHT
BEGIN:STANDARD
TZOFFSETFROM:+0200
TZOFFSETTO:+0100
TZNAME:CET
DTSTART:20151025T010000
END:STANDARD
END:VTIMEZONE
BEGIN:VEVENT
DTSTART;TZID=Europe/Madrid:20150513T120000
DTEND;TZID=Europe/Madrid:20150519T003000
DTSTAMP:20260422T143642
CREATED:20150326T114347Z
LAST-MODIFIED:20150326T114347Z
UID:16110-1431518400-1431995400@elmolar.org
SUMMARY:Fiestas Patronales Ntra. Sra. del Remolino
DESCRIPTION:El próximo 13 de Mayo dará comienzo las Fiestas Patronales de Ntra. Sra. del Remolino\, donde se podrá disfrutar hasta el día 18 de Mayo de una gran variedad de actividades tales como:  Fuegos artificiales\, pregón\, misa\, procesión\, torneos deportivos\, actuación de grupos folclóricos\, talleres infantiles\, comida popular\, concursos\, degustación de dulces tradicionales\, encierros\, recinto ferial\, conciertos\, baile en la plaza\, caldereta.
URL:https://elmolar.org/evento/fiestas-patronales-ntra-sra-del-remolino-2/
ATTACH;FMTTYPE=:
END:VEVENT
BEGIN:VEVENT
DTSTART;TZID=Europe/Madrid:20150516T000000
DTEND;TZID=Europe/Madrid:20150516T050000
DTSTAMP:20260422T143642
CREATED:20150511T070206Z
LAST-MODIFIED:20150511T070206Z
UID:16176-1431734400-1431752400@elmolar.org
SUMMARY:Charanga Nocturna
DESCRIPTION:Para seguir disfrutando del viernes de las Fiestas Patronales\, a las 22:00h del día 15 de Mayo comenzará la Charanga Nocturna\, coordinada por la Asociación de Jóvenes de El Molar. \nRecorrido a determinar por la Asociación de Jóvenes El Molar.
URL:https://elmolar.org/evento/charanga-nocturna-3/
CATEGORIES:Música,Otros
ATTACH;FMTTYPE=:
END:VEVENT
BEGIN:VEVENT
DTSTART;TZID=Europe/Madrid:20150516T010000
DTEND;TZID=Europe/Madrid:20150516T060000
DTSTAMP:20260422T143642
CREATED:20150511T071744Z
LAST-MODIFIED:20150511T071744Z
UID:16177-1431738000-1431756000@elmolar.org
SUMMARY:Baile y Disco-Movil
DESCRIPTION:Desde las 23:00h\, podremos disfrutar en la Plaza Mayor del baile con orquesta\, así como en los descansos y hasta dos horas después de finalizar la orquesta\, para los que deseen continuar la fiesta podrá hacerlo sin desplazarse del lugar\, ya que dispondrán también de una Disco-Movil.
URL:https://elmolar.org/evento/baile-y-disco-movil-3-2/
CATEGORIES:Música
ATTACH;FMTTYPE=:
END:VEVENT
BEGIN:VEVENT
DTSTART;TZID=Europe/Madrid:20150516T020000
DTEND;TZID=Europe/Madrid:20150516T170000
DTSTAMP:20260422T143642
CREATED:20150511T080643Z
LAST-MODIFIED:20150511T080643Z
UID:16180-1431741600-1431795600@elmolar.org
SUMMARY:Pasacalles de la Peña del Remolino
DESCRIPTION:Recorriendo varias calles y plazas del municipio\, el sábado 16 de Mayo\, de 12:00h a 15:00h \, dispondremos de una mañana y un mediodía divertido a cargo del Pasacalles de la Peña del Remolino\, animando la fiesta con Gigantes y Cabezudos. \nComenzará en la Plaza de Pedro Gabriel\, en el local de la Peña.
URL:https://elmolar.org/evento/pasacalles-de-la-pena-del-remolino-2/
CATEGORIES:Música
ATTACH;FMTTYPE=:
END:VEVENT
BEGIN:VEVENT
DTSTART;TZID=Europe/Madrid:20150516T020000
DTEND;TZID=Europe/Madrid:20150516T150000
DTSTAMP:20260422T143642
CREATED:20150511T081711Z
LAST-MODIFIED:20150511T081711Z
UID:16181-1431741600-1431788400@elmolar.org
SUMMARY:"Jugando al Toro". Corrida de Toros Infantil
DESCRIPTION:Se simulará una corrida de Toros a las 12:00h en la Plaza Mayor\, en la que los más pequeños podrán disfrazarse de toreros y picadores para reproducir un festejo taurino con toros y caballos hinchables.
URL:https://elmolar.org/evento/jugando-al-toro-corrida-de-toros-infantil-2/
CATEGORIES:Otros
ATTACH;FMTTYPE=:
END:VEVENT
BEGIN:VEVENT
DTSTART;TZID=Europe/Madrid:20150516T110000
DTEND;TZID=Europe/Madrid:20150516T120000
DTSTAMP:20260422T143642
CREATED:20150511T074607Z
LAST-MODIFIED:20150511T074607Z
UID:16178-1431774000-1431777600@elmolar.org
SUMMARY:Diana Floreada
DESCRIPTION:Abriendo el sábado 16 de Mayo\, a las 09:00h comienza el pasacalles Diana Floreada a cargo de la Charanga Alsat siguiendo un recorrido urbano.
URL:https://elmolar.org/evento/diana-floreada-2-2/
CATEGORIES:Música
ATTACH;FMTTYPE=:
END:VEVENT
BEGIN:VEVENT
DTSTART;TZID=Europe/Madrid:20150516T120000
DTEND;TZID=Europe/Madrid:20150516T120000
DTSTAMP:20260422T143642
CREATED:20150511T075224Z
LAST-MODIFIED:20150511T075224Z
UID:16179-1431777600-1431777600@elmolar.org
SUMMARY:Encierro
DESCRIPTION:En la Plaza de Toros a las 10:00h\, comienza el segundo Encierro de las Fiestas Patronales. A su conclusión\, suelta de Vaquillas.
URL:https://elmolar.org/evento/encierro-2-2/
CATEGORIES:Otros
ATTACH;FMTTYPE=:
END:VEVENT
BEGIN:VEVENT
DTSTART;TZID=Europe/Madrid:20150516T150000
DTEND;TZID=Europe/Madrid:20150516T170000
DTSTAMP:20260422T143642
CREATED:20150511T083327Z
LAST-MODIFIED:20150511T083327Z
UID:16182-1431788400-1431795600@elmolar.org
SUMMARY:Pasacalles "Vermouth"
DESCRIPTION:Siguiendo un recorrido urbano por el municipio\, de 13:00h a 15:00h del sábado 16 de Mayo\, podremos divertirnos con el Pasacalles “Vermouth”\, amenizado por la Charanga Alsat. \n 
URL:https://elmolar.org/evento/pasacalles-vermouth-2-2/
CATEGORIES:Música
ATTACH;FMTTYPE=:
END:VEVENT
BEGIN:VEVENT
DTSTART;TZID=Europe/Madrid:20150516T150000
DTEND;TZID=Europe/Madrid:20150516T170000
DTSTAMP:20260422T143642
CREATED:20150511T084340Z
LAST-MODIFIED:20150511T084340Z
UID:16183-1431788400-1431795600@elmolar.org
SUMMARY:Encuentro de Bailes Regionales "Aires de la Sierra"
DESCRIPTION:Organizado por A.C. Aires de la Sierra\, el sábado 16 de Mayo a las 13:00h en la Plaza Mayor\, se celebrará el encuentro de Bailes Regionales “Aires de la Sierra”.
URL:https://elmolar.org/evento/encuentro-de-bailes-regionales-aires-de-la-sierra-2/
CATEGORIES:Música
ATTACH;FMTTYPE=:
END:VEVENT
BEGIN:VEVENT
DTSTART;TZID=Europe/Madrid:20150516T200000
DTEND;TZID=Europe/Madrid:20150516T230000
DTSTAMP:20260422T143642
CREATED:20150511T085240Z
LAST-MODIFIED:20150511T085240Z
UID:16184-1431806400-1431817200@elmolar.org
SUMMARY:Festejo Taurino
DESCRIPTION:A las 18:00h comenzará el Festejo Taurino en la Plaza de Toros. \nPara más información ver programa aparte. \nhttp://www.tauroweb.es/feste.php?pueblo=El%20Molar
URL:https://elmolar.org/evento/festejo-taurino-2-2/
CATEGORIES:Otros
ATTACH;FMTTYPE=:
END:VEVENT
END:VCALENDAR