BEGIN:VCALENDAR
VERSION:2.0
PRODID:-//Ayuntamiento El Molar - ECPv5.14.0.2//NONSGML v1.0//EN
CALSCALE:GREGORIAN
METHOD:PUBLISH
X-WR-CALNAME:Ayuntamiento El Molar
X-ORIGINAL-URL:https://elmolar.org
X-WR-CALDESC:Eventos para Ayuntamiento El Molar
BEGIN:VTIMEZONE
TZID:Europe/Madrid
BEGIN:DAYLIGHT
TZOFFSETFROM:+0100
TZOFFSETTO:+0200
TZNAME:CEST
DTSTART:20150329T010000
END:DAYLIGHT
BEGIN:STANDARD
TZOFFSETFROM:+0200
TZOFFSETTO:+0100
TZNAME:CET
DTSTART:20151025T010000
END:STANDARD
END:VTIMEZONE
BEGIN:VEVENT
DTSTART;TZID=Europe/Madrid:20150522T220000
DTEND;TZID=Europe/Madrid:20150523T000000
DTSTAMP:20260422T004808
CREATED:20150512T065754Z
LAST-MODIFIED:20150512T065754Z
UID:16197-1432332000-1432339200@elmolar.org
SUMMARY:Musical Chicago
DESCRIPTION:Para todos aquellos que disfrutan con la música\, el viernes 22 de Mayo a las 20:00h\, podrán hacerlo en el Aula de usos múltiples del CEIP Ntra.Sra. del Remolino con el Musical Chicago\, el cual se realiza a cargo de los alumnos Ampa del IES. Cortes de Cádiz.
URL:https://elmolar.org/evento/musical-chicago-3/
CATEGORIES:Música
ATTACH;FMTTYPE=:
END:VEVENT
BEGIN:VEVENT
DTSTART;TZID=Europe/Madrid:20150523T133000
DTEND;TZID=Europe/Madrid:20150523T213000
DTSTAMP:20260422T004808
CREATED:20150326T115059Z
LAST-MODIFIED:20150326T115059Z
UID:16112-1432387800-1432416600@elmolar.org
SUMMARY:Micropolix de la Igualdad
DESCRIPTION:El sábado 23 de Mayo en la Plaza Mayor\, se organiza desde las 11:30h  hasta las 14:30 y de 16:30h a 19:30h\, un espacio con talleres dedicados a las familias\, donde podrán compartir actividades del quehacer diario de una forma lúdica\, dinámica y participativa. \nEl objetivo de estos talleres\, es que toda la familia comparta los valores\, actitudes y comportamientos basados en la igualdad de oportunidades entre hombres y mujeres. \n 
URL:https://elmolar.org/evento/micropolix-de-la-igualdad-2/
CATEGORIES:Otros
ATTACH;FMTTYPE=:
END:VEVENT
BEGIN:VEVENT
DTSTART;TZID=Europe/Madrid:20150523T200000
DTEND;TZID=Europe/Madrid:20150523T220000
DTSTAMP:20260422T004808
CREATED:20150512T085959Z
LAST-MODIFIED:20150512T085959Z
UID:16199-1432411200-1432418400@elmolar.org
SUMMARY:Humor Amarillo
DESCRIPTION:El próximo sábado 23 de Mayo a las 18:00h\, todos los públicos podrán divertirse en la Plaza de Toros con este interesante evento ya conocido. El Humor Amarillo junta diversión en un entorno de lo más taurino.
URL:https://elmolar.org/evento/humor-amarillo-2/
CATEGORIES:Otros
ATTACH;FMTTYPE=:
END:VEVENT
BEGIN:VEVENT
DTSTART;TZID=Europe/Madrid:20150523T220000
DTEND;TZID=Europe/Madrid:20150524T000000
DTSTAMP:20260422T004808
CREATED:20150512T090310Z
LAST-MODIFIED:20150512T090310Z
UID:16200-1432418400-1432425600@elmolar.org
SUMMARY:Musical Chicago
DESCRIPTION:Para todos aquellos que disfrutan con la música\, el viernes 23 de Mayo a las 20:00h\, podrán hacerlo en el Aula de usos múltiples del CEIP Ntra.Sra. del Remolino con el Musical Chicago\, el cual se realiza a cargo de los alumnos Ampa del IES. Cortes de Cádi
URL:https://elmolar.org/evento/musical-chicago-2-2/
CATEGORIES:Música
ATTACH;FMTTYPE=:
END:VEVENT
END:VCALENDAR