BEGIN:VCALENDAR
VERSION:2.0
PRODID:-//Ayuntamiento El Molar - ECPv5.14.0.2//NONSGML v1.0//EN
CALSCALE:GREGORIAN
METHOD:PUBLISH
X-WR-CALNAME:Ayuntamiento El Molar
X-ORIGINAL-URL:https://elmolar.org
X-WR-CALDESC:Eventos para Ayuntamiento El Molar
BEGIN:VTIMEZONE
TZID:Europe/Madrid
BEGIN:DAYLIGHT
TZOFFSETFROM:+0100
TZOFFSETTO:+0200
TZNAME:CEST
DTSTART:20150329T010000
END:DAYLIGHT
BEGIN:STANDARD
TZOFFSETFROM:+0200
TZOFFSETTO:+0100
TZNAME:CET
DTSTART:20151025T010000
END:STANDARD
END:VTIMEZONE
BEGIN:VEVENT
DTSTART;TZID=Europe/Madrid:20150523T220000
DTEND;TZID=Europe/Madrid:20150524T000000
DTSTAMP:20260421T225556
CREATED:20150512T090310Z
LAST-MODIFIED:20150512T090310Z
UID:16200-1432418400-1432425600@elmolar.org
SUMMARY:Musical Chicago
DESCRIPTION:Para todos aquellos que disfrutan con la música\, el viernes 23 de Mayo a las 20:00h\, podrán hacerlo en el Aula de usos múltiples del CEIP Ntra.Sra. del Remolino con el Musical Chicago\, el cual se realiza a cargo de los alumnos Ampa del IES. Cortes de Cádi
URL:https://elmolar.org/evento/musical-chicago-2-2/
CATEGORIES:Música
ATTACH;FMTTYPE=:
END:VEVENT
BEGIN:VEVENT
DTSTART;TZID=Europe/Madrid:20150524T000000
DTEND;TZID=Europe/Madrid:20150524T010000
DTSTAMP:20260421T225556
CREATED:20150512T092244Z
LAST-MODIFIED:20150512T092244Z
UID:16201-1432425600-1432429200@elmolar.org
SUMMARY:Espectáculo de Copla y Magia
DESCRIPTION:La noche del 23 de Mayo\, a partir de las 22:00h\, dispondremos en la Plaza Mayor del municipio de un espectáculo de Copla y Magia.
URL:https://elmolar.org/evento/espectaculo-de-copla-y-magia-2/
CATEGORIES:Música
ATTACH;FMTTYPE=:
END:VEVENT
BEGIN:VEVENT
DTSTART;VALUE=DATE:20150524
DTEND;VALUE=DATE:20150526
DTSTAMP:20260421T225556
CREATED:20150512T093919Z
LAST-MODIFIED:20150512T093919Z
UID:16203-1432432800-1432519199@elmolar.org
SUMMARY:Fiesta de Pentecostés
DESCRIPTION:El Domingo 24 de Mayo comienza la Fiesta de Pentecostés. \nSe traslada el Día del Taral al 31 de Mayo a causa de la Jornada Electoral.
URL:https://elmolar.org/evento/fiesta-de-pentecostes-3-2/
ATTACH;FMTTYPE=:
END:VEVENT
BEGIN:VEVENT
DTSTART;TZID=Europe/Madrid:20150524T020000
DTEND;TZID=Europe/Madrid:20150524T150000
DTSTAMP:20260421T225556
CREATED:20150512T094914Z
LAST-MODIFIED:20150512T094914Z
UID:16205-1432432800-1432479600@elmolar.org
SUMMARY:Misa Mayor
DESCRIPTION:A las 12:00h del Domingo 24 de Mayo se celebrará en la Iglesia de Ntra. Señora de la Asunción la Misa Mayor.
URL:https://elmolar.org/evento/misa-mayor-2-2/
CATEGORIES:Otros
ATTACH;FMTTYPE=:
END:VEVENT
BEGIN:VEVENT
DTSTART;TZID=Europe/Madrid:20150524T120000
DTEND;TZID=Europe/Madrid:20150524T130000
DTSTAMP:20260421T225556
CREATED:20150512T094609Z
LAST-MODIFIED:20150512T094609Z
UID:16204-1432468800-1432472400@elmolar.org
SUMMARY:Misa Primera
DESCRIPTION:A las 10:00h del domingo 24 de Mayo se realizará la Misa Primera en la Iglesia de Ntra. Señora de la Asunción.
URL:https://elmolar.org/evento/misa-primera-2-2/
CATEGORIES:Otros
ATTACH;FMTTYPE=:
END:VEVENT
END:VCALENDAR